BEGIN:VCALENDAR
VERSION:2.0
PRODID:-//Spectrum Scale User Group - ECPv6.15.10//NONSGML v1.0//EN
CALSCALE:GREGORIAN
METHOD:PUBLISH
X-ORIGINAL-URL:https://www.spectrumscaleug.org
X-WR-CALDESC:Events for Spectrum Scale User Group
REFRESH-INTERVAL;VALUE=DURATION:PT1H
X-Robots-Tag:noindex
X-PUBLISHED-TTL:PT1H
BEGIN:VTIMEZONE
TZID:Europe/London
BEGIN:DAYLIGHT
TZOFFSETFROM:+0000
TZOFFSETTO:+0100
TZNAME:BST
DTSTART:20120325T010000
END:DAYLIGHT
BEGIN:STANDARD
TZOFFSETFROM:+0100
TZOFFSETTO:+0000
TZNAME:GMT
DTSTART:20121028T010000
END:STANDARD
BEGIN:DAYLIGHT
TZOFFSETFROM:+0000
TZOFFSETTO:+0100
TZNAME:BST
DTSTART:20130331T010000
END:DAYLIGHT
BEGIN:STANDARD
TZOFFSETFROM:+0100
TZOFFSETTO:+0000
TZNAME:GMT
DTSTART:20131027T010000
END:STANDARD
BEGIN:DAYLIGHT
TZOFFSETFROM:+0000
TZOFFSETTO:+0100
TZNAME:BST
DTSTART:20140330T010000
END:DAYLIGHT
BEGIN:STANDARD
TZOFFSETFROM:+0100
TZOFFSETTO:+0000
TZNAME:GMT
DTSTART:20141026T010000
END:STANDARD
END:VTIMEZONE
BEGIN:VEVENT
DTSTART;VALUE=DATE:20131117
DTEND;VALUE=DATE:20131118
DTSTAMP:20260424T063653
CREATED:20171201T143932Z
LAST-MODIFIED:20171204T135621Z
UID:807-1384646400-1384732799@www.spectrumscaleug.org
SUMMARY:IBM User group meeting #SC13
DESCRIPTION:GPFS @SC’13\, Denver\, Colorado\n\nGPFS What’s New – Scott Fadden\, IBM Technical Marketing\nGSS Update – Matt Drahzal\, IBM\nGPFS Experiences from the Argonne Leadership Computing Facility (ALCF) – William (Bill) E. Allcock\, ALCF Director of Operations\nThe GLADE Environment – Pamela Gillman\, NCARManager\, Data Analysis Services Group
URL:https://www.spectrumscaleug.org/event/ibm-user-group-meeting-sc13/
END:VEVENT
END:VCALENDAR