BEGIN:VCALENDAR
VERSION:2.0
PRODID:-//Spectrum Scale User Group - ECPv6.15.10//NONSGML v1.0//EN
CALSCALE:GREGORIAN
METHOD:PUBLISH
X-ORIGINAL-URL:https://www.spectrumscaleug.org
X-WR-CALDESC:Events for Spectrum Scale User Group
REFRESH-INTERVAL;VALUE=DURATION:PT1H
X-Robots-Tag:noindex
X-PUBLISHED-TTL:PT1H
BEGIN:VTIMEZONE
TZID:Europe/London
BEGIN:DAYLIGHT
TZOFFSETFROM:+0000
TZOFFSETTO:+0100
TZNAME:BST
DTSTART:20120325T010000
END:DAYLIGHT
BEGIN:STANDARD
TZOFFSETFROM:+0100
TZOFFSETTO:+0000
TZNAME:GMT
DTSTART:20121028T010000
END:STANDARD
BEGIN:DAYLIGHT
TZOFFSETFROM:+0000
TZOFFSETTO:+0100
TZNAME:BST
DTSTART:20130331T010000
END:DAYLIGHT
BEGIN:STANDARD
TZOFFSETFROM:+0100
TZOFFSETTO:+0000
TZNAME:GMT
DTSTART:20131027T010000
END:STANDARD
BEGIN:DAYLIGHT
TZOFFSETFROM:+0000
TZOFFSETTO:+0100
TZNAME:BST
DTSTART:20140330T010000
END:DAYLIGHT
BEGIN:STANDARD
TZOFFSETFROM:+0100
TZOFFSETTO:+0000
TZNAME:GMT
DTSTART:20141026T010000
END:STANDARD
END:VTIMEZONE
BEGIN:VEVENT
DTSTART;VALUE=DATE:20130424
DTEND;VALUE=DATE:20130425
DTSTAMP:20260424T183546
CREATED:20171201T154559Z
LAST-MODIFIED:20171201T154559Z
UID:824-1366761600-1366847999@www.spectrumscaleug.org
SUMMARY:GPFS User Group #8 April 2013
DESCRIPTION:GPFS User Group Meeting: 24th April 2013 \nAgenda \n10:30 Arrivals and refreshments \n11:00 Introductions and committee updates \nJez Tucker\, Group Chair & Claire Robson\, Group Secretary \n11:05 GPFS FPO \nDinesh Subhraveti\, IBM Almaden Research Labs \n12:00 SAMBA 4.0 & CTDB 2.0 \nMichael Adams\, SAMBA Development Team \n13:00 Lunch (Buffet provided) \n13:45 GPFS OpenStack Integration \nDinesh Subhraveti\, IBM Almaden Research Labs \n14:15 SAMBA & GPFS Integration \nVolker Lendecke\, SAMBA Development Team \n15:15 Refreshments break \n15:30 GPFS Native RAID & LTFS \nJim Roche\, IBM \n16:00 Group discussion: Questions & Committee matters \nLed by Jez Tucker\, Group Chairperson \n16:05 Close
URL:https://www.spectrumscaleug.org/event/gpfs-user-group-8-april-2013/
END:VEVENT
END:VCALENDAR