BEGIN:VCALENDAR
VERSION:2.0
PRODID:-//Spectrum Scale User Group - ECPv6.15.10//NONSGML v1.0//EN
CALSCALE:GREGORIAN
METHOD:PUBLISH
X-WR-CALNAME:Spectrum Scale User Group
X-ORIGINAL-URL:https://www.spectrumscaleug.org
X-WR-CALDESC:Events for Spectrum Scale User Group
REFRESH-INTERVAL;VALUE=DURATION:PT1H
X-Robots-Tag:noindex
X-PUBLISHED-TTL:PT1H
BEGIN:VTIMEZONE
TZID:Europe/London
BEGIN:DAYLIGHT
TZOFFSETFROM:+0000
TZOFFSETTO:+0100
TZNAME:BST
DTSTART:20210328T010000
END:DAYLIGHT
BEGIN:STANDARD
TZOFFSETFROM:+0100
TZOFFSETTO:+0000
TZNAME:GMT
DTSTART:20211031T010000
END:STANDARD
BEGIN:DAYLIGHT
TZOFFSETFROM:+0000
TZOFFSETTO:+0100
TZNAME:BST
DTSTART:20220327T010000
END:DAYLIGHT
BEGIN:STANDARD
TZOFFSETFROM:+0100
TZOFFSETTO:+0000
TZNAME:GMT
DTSTART:20221030T010000
END:STANDARD
BEGIN:DAYLIGHT
TZOFFSETFROM:+0000
TZOFFSETTO:+0100
TZNAME:BST
DTSTART:20230326T010000
END:DAYLIGHT
BEGIN:STANDARD
TZOFFSETFROM:+0100
TZOFFSETTO:+0000
TZNAME:GMT
DTSTART:20231029T010000
END:STANDARD
END:VTIMEZONE
BEGIN:VTIMEZONE
TZID:Europe/Berlin
BEGIN:DAYLIGHT
TZOFFSETFROM:+0100
TZOFFSETTO:+0200
TZNAME:CEST
DTSTART:20210328T010000
END:DAYLIGHT
BEGIN:STANDARD
TZOFFSETFROM:+0200
TZOFFSETTO:+0100
TZNAME:CET
DTSTART:20211031T010000
END:STANDARD
BEGIN:DAYLIGHT
TZOFFSETFROM:+0100
TZOFFSETTO:+0200
TZNAME:CEST
DTSTART:20220327T010000
END:DAYLIGHT
BEGIN:STANDARD
TZOFFSETFROM:+0200
TZOFFSETTO:+0100
TZNAME:CET
DTSTART:20221030T010000
END:STANDARD
BEGIN:DAYLIGHT
TZOFFSETFROM:+0100
TZOFFSETTO:+0200
TZNAME:CEST
DTSTART:20230326T010000
END:DAYLIGHT
BEGIN:STANDARD
TZOFFSETFROM:+0200
TZOFFSETTO:+0100
TZNAME:CET
DTSTART:20231029T010000
END:STANDARD
END:VTIMEZONE
BEGIN:VEVENT
DTSTART;VALUE=DATE:20221019
DTEND;VALUE=DATE:20221021
DTSTAMP:20260421T190212
CREATED:20220705T160823Z
LAST-MODIFIED:20220902T123110Z
UID:2551-1666137600-1666310399@www.spectrumscaleug.org
SUMMARY:German User Meeting 2022
DESCRIPTION:IBM is organizing a Spectrum Scale User Meeting in Cologne\, Germany. We have an exciting agenda covering user stories\, roadmap update\, the latest insights into data fabrics\, data orchestration and data management architectures\, plus access to IBM experts and your peers. See the event page for the detailed agenda. We look forward to welcoming you to this event. \nDate: October 19-20\, 2022 \nLocation: MediaPark Cologne\, Germany \nThe User Meeting is face-to-face only and free of charge. \nAttendees must >>register here<< prior the event. \nOctober 19th\, 2022\n9:00 10:00 Registration and Networking\n10:00 10:15 Welcome\n10:15 10:40 Strategy Update\n10:40 11:05 Easy Installation using Terraform and Ansible\n11:05 11:25 Spectrum Scale on IBM Cloud\n11:25 11:50 Global Data Orchestration\n11:50 12:00 Meet the devs\n12:00 13:00 Lunch and Networking\n13:00 13:40 What is new in Spectrum Scale?\n13:40 14:10 ESS 3500\n14:10 14:30 Customer or partner talk - ESS3500\n14:30 15:00 Coffee and Networking\n15:00 15:20 AFM - Enhancements and Use Cases\n15:20 15:40 Customer or partner talk\n15:40 16:00 Customer or partner talk\n16:00 16:15 New requirement process\n16:15 16:35 Break\n16:35 16:50 Update from ESCC (Pre-Sales/Lab Services/Support )\n16:50 17:05 Sneak Preview\n17:05 17:25 CNSA & CSI Update\n17:25 17:45 Container & Object Storage hints and tips\n17:45 18:00 Ask us anything\n18:00 20:00 Get Together\n\nOctober 20th\, 2022\n8:30 9:00 Coffee und Networking\nSpectrum Scale licensing\n9:00 12:00 Break-out Sessions\n- AFM Deep Dive\n- Spectrum Scale and Tape\n- Introduction to Spectrum Fusion\n- Secured Data Sharing to Applications running in OpenShift\n- ESS Deep Dive\n- Spectrum Scale on Z\n- HDFS hands-on experience with Cloudera CDP\n- Terraform and Ansible Deep Dive\n- Introduction to Spectrum Discover\n12:00 13:00 Lunch and Networking\n13:00 13:20 New S3 Access for AI and Analytics\n13:20 13:40 GPUDirect Storage Update\n13:40 14:00 HDFS Update\n14:00 14:30 Coffee and Networking\n14:30 14:50 Customer or partner talk\n14:50 15:10 Monitoring and serviceability enhancements\n15:10 15:30 Field Update\n15:30 15:50 Performance Update\n15:50 16:00 Wrap-up\n 
URL:https://www.spectrumscaleug.org/event/german-2022-user-meeting/
LOCATION:MediaPark Köln\, MediaPark\, Cologne\, Germany
CATEGORIES:In Person
END:VEVENT
BEGIN:VEVENT
DTSTART;TZID=Europe/London:20220630T090000
DTEND;TZID=Europe/London:20220630T170000
DTSTAMP:20260421T190212
CREATED:20220310T112036Z
LAST-MODIFIED:20220627T080049Z
UID:2461-1656579600-1656608400@www.spectrumscaleug.org
SUMMARY:Spectrum Scale User Group UK meeting 30th June 2022
DESCRIPTION:Join us at IBM’s new London location for our next user group meeting \nThis is the current proposed agenda for June’s meeting \n\n\n\n9:30 – 10:00\nArrivals and refreshments\n\n\n10:00 – 10:15\nIntroductions and committee updates \nPaul Tomlinson\, Group Chair & Caroline Bradley\, Group Secretary\n\n\n10:15 – 10:50\nStrategy Update (IBM)\n\n\n10:50 – 11:15\nNew S3 Access for AI and Analytics (IBM)\n\n\n11:15 – 11:35\nNVIDIA GPUDirect Storage with Spectrum Scale\n\n\n11:35 – 12:00\nWhat’s new in Spectrum Scale\n\n\n12:00 – 13:00\nBuffet Lunch outside The Cube – Including viewings of Mayflower in Immersive Room (Aspen)\, Quantum Room (Lemon)\, and AI Cars\n\n\n13:00 – 13:20\nMigration of Spectrum Scale using Atempo\n\n\n13:20 – 13:40\nSpectrum Scale HDFS Update\n\n\n13:40 – 14:00\nSpectrum Scale and Spectrum Discover for Data Management\n\n\n14:00 – 14:30\nMonitoring + Serviceability Enhancements\n\n\n14:30 – 15:00\nRefreshment Break – Viewings of Spot the Robot Dog.\n\n\n15:00 – 15:20\nSupporting Science with Spectrum Scale\n\n\n15:20 – 15:40\nSpectrum Scale on IBM Cloud\n\n\n15:40 – 16:00\nLenovo Update\n\n\n16:00 – 16:30\nPerformance Update\n\n\n16:30 – 17:00\nChallenges\, Experiences + Questions Led by Paul Tomlinson\, Group Chair\n\n\n17:00\nClose followed by Drinks and Pizza reception\n\n\n\n\n\n\n\n  \nRegistration is at https://www.eventbrite.co.uk/e/spectrum-scale-user-group-registration-321290978967
URL:https://www.spectrumscaleug.org/event/spectrum-scale-user-group-uk-meeting-2022/
LOCATION:IBM Client Center London\, 20 York Road\, London\, SE1 7ND\, United Kingdom
CATEGORIES:In Person
END:VEVENT
BEGIN:VEVENT
DTSTART;TZID=Europe/Berlin:20220530T140000
DTEND;TZID=Europe/Berlin:20220530T170000
DTSTAMP:20260421T190212
CREATED:20220503T150229Z
LAST-MODIFIED:20220511T154929Z
UID:2510-1653919200-1653930000@www.spectrumscaleug.org
SUMMARY:Spectrum Scale User Meeting at ISC 2022
DESCRIPTION:IBM is organizing a Spectrum Scale User Meeting at ISC 2022. We have an exciting agenda covering user stories\, roadmap update\, the latest insights into data fabrics\, data orchestration and data management architectures\, plus access to IBM experts and your peers. We look forward to welcoming you to this event. \nDate: Mon\, 30. May 2022 – 14:00-17:00 CET Local time | Hall X Room 8 by SVA\nCongress Center Hamburg (CCH) \nAny and all people entering meeting rooms MUST be registered with an ISC 2022 exhibition pass or conference pass. Please note that registration is only available online and in advance. On-site registration is NOT possible. \nThe User Meeting is face-to-face only. There is no additional registration required in addition to the general ISC registration. \nNDA’s have to be signed when entering the meeting room as roadmap items are discussed. A non-confidential version of the charts will be made available after the event. \n\n\n\n\n	14:0014:10WelcomeChristina Orosco (IBM) / Matt Geiser (IBM)\n\n\n	14:1014:35What is new in Spectrum Scale and ESS?Chris Maestas (IBM)\n\n\n	14:3514:55GPUDirect Storage in Spectrum ScaleRalph Würthner (IBM)\n\n\n	14:5515:15Performance UpdateOlaf Weiser (IBM)\n\n\n	15:1515:35- Break -n/a\n\n\n	15:3515:55Not enough money for an all flash HPC storage?\nA brief cheating guide.Jochen Zeller (SVA)\n\n\n	15:5516:15Monitoring and serviceability enhancements in Spectrum ScaleMathias Dietz (IBM)\n\n\n	16:1516:35New S3 access for AI and Analytics workloadsUlf Troppens (IBM)\n\n\n	16:3516:55Data orchestration across the global data platformSimon Lorenz (IBM)\n\n\n	16:5517:00Wrap-upUlf Troppens (IBM)\n\n\n\n\nSponsors:
URL:https://www.spectrumscaleug.org/event/spectrum-scale-user-meeting-at-isc-2022/
LOCATION:Congress Center Hamburg (CCH)\, Congressplatz 1\, Hamburg\, 20355\, Germany
CATEGORIES:In Person
END:VEVENT
END:VCALENDAR