BEGIN:VCALENDAR
VERSION:2.0
PRODID:-//Spectrum Scale User Group - ECPv6.15.10//NONSGML v1.0//EN
CALSCALE:GREGORIAN
METHOD:PUBLISH
X-ORIGINAL-URL:https://www.spectrumscaleug.org
X-WR-CALDESC:Events for Spectrum Scale User Group
REFRESH-INTERVAL;VALUE=DURATION:PT1H
X-Robots-Tag:noindex
X-PUBLISHED-TTL:PT1H
BEGIN:VTIMEZONE
TZID:America/New_York
BEGIN:DAYLIGHT
TZOFFSETFROM:-0500
TZOFFSETTO:-0400
TZNAME:EDT
DTSTART:20230312T070000
END:DAYLIGHT
BEGIN:STANDARD
TZOFFSETFROM:-0400
TZOFFSETTO:-0500
TZNAME:EST
DTSTART:20231105T060000
END:STANDARD
BEGIN:DAYLIGHT
TZOFFSETFROM:-0500
TZOFFSETTO:-0400
TZNAME:EDT
DTSTART:20240310T070000
END:DAYLIGHT
BEGIN:STANDARD
TZOFFSETFROM:-0400
TZOFFSETTO:-0500
TZNAME:EST
DTSTART:20241103T060000
END:STANDARD
BEGIN:DAYLIGHT
TZOFFSETFROM:-0500
TZOFFSETTO:-0400
TZNAME:EDT
DTSTART:20250309T070000
END:DAYLIGHT
BEGIN:STANDARD
TZOFFSETFROM:-0400
TZOFFSETTO:-0500
TZNAME:EST
DTSTART:20251102T060000
END:STANDARD
END:VTIMEZONE
BEGIN:VEVENT
DTSTART;TZID=America/New_York:20241001T090000
DTEND;TZID=America/New_York:20241001T173000
DTSTAMP:20260419T165207
CREATED:20240909T140837Z
LAST-MODIFIED:20240909T140837Z
UID:3286-1727773200-1727803800@www.spectrumscaleug.org
SUMMARY:NYC 2024 - IBM Storage Scale User’s Group
DESCRIPTION:New York City 2024 – IBM Storage Scale User’s Group October 1\, 2024 \n\n\n\nThere will be a Storage Scale User Meeting in New York City\, NY\, USA. We have an exciting agenda covering user stories\, roadmap updates\, development\, research\, NVIDIA\, SuperMicro and DST\, plus access to IBM experts and your peers. We look forward to welcoming you to this event. \nAgenda highlights: \n\n\n\n\nStorage Scale strategy\nNVIDIA AI Solutions with IBM Storage Scale\nIBM Research Vela and Blue Vela systems for AI\nSupermicro and the IBM Scale POD\nHealth Monitoring and Call Home Improvements\nNetworking w. Scale & Scale Storage Systems\n\n\n\n\nThe detailed agenda can be found at the registration page. Please register here! \n\n\n\nSponsored by Data In Science Technologies – htps://datainscience.com/
URL:https://www.spectrumscaleug.org/event/nyc2024-ibm-storage-scale-users-group/
LOCATION:One Madison Avenue\, New York\, NY\, 1 Madison Avenue\, New York\, NY\, 10010\, United States
CATEGORIES:In Person
END:VEVENT
END:VCALENDAR