BEGIN:VCALENDAR
VERSION:2.0
PRODID:-//Spectrum Scale User Group - ECPv6.15.10//NONSGML v1.0//EN
CALSCALE:GREGORIAN
METHOD:PUBLISH
X-ORIGINAL-URL:https://www.spectrumscaleug.org
X-WR-CALDESC:Events for Spectrum Scale User Group
REFRESH-INTERVAL;VALUE=DURATION:PT1H
X-Robots-Tag:noindex
X-PUBLISHED-TTL:PT1H
BEGIN:VTIMEZONE
TZID:Europe/Berlin
BEGIN:DAYLIGHT
TZOFFSETFROM:+0100
TZOFFSETTO:+0200
TZNAME:CEST
DTSTART:20150329T010000
END:DAYLIGHT
BEGIN:STANDARD
TZOFFSETFROM:+0200
TZOFFSETTO:+0100
TZNAME:CET
DTSTART:20151025T010000
END:STANDARD
BEGIN:DAYLIGHT
TZOFFSETFROM:+0100
TZOFFSETTO:+0200
TZNAME:CEST
DTSTART:20160327T010000
END:DAYLIGHT
BEGIN:STANDARD
TZOFFSETFROM:+0200
TZOFFSETTO:+0100
TZNAME:CET
DTSTART:20161030T010000
END:STANDARD
BEGIN:DAYLIGHT
TZOFFSETFROM:+0100
TZOFFSETTO:+0200
TZNAME:CEST
DTSTART:20170326T010000
END:DAYLIGHT
BEGIN:STANDARD
TZOFFSETFROM:+0200
TZOFFSETTO:+0100
TZNAME:CET
DTSTART:20171029T010000
END:STANDARD
END:VTIMEZONE
BEGIN:VEVENT
DTSTART;TZID=Europe/Berlin:20160508T100000
DTEND;TZID=Europe/Berlin:20160508T170000
DTSTAMP:20260421T202826
CREATED:20171201T132242Z
LAST-MODIFIED:20171201T132242Z
UID:771-1462701600-1462726800@www.spectrumscaleug.org
SUMMARY:IBM Event: Introduction to Spectrum Scale
DESCRIPTION:
URL:https://www.spectrumscaleug.org/event/ibm-event-introduction-to-spectrum-scale/
LOCATION:IBM Client Center Ehningen\, IBM-Allee 1\, Ehningen\, 71139\, Germany
END:VEVENT
END:VCALENDAR