BEGIN:VCALENDAR
VERSION:2.0
PRODID:-//Spectrum Scale User Group - ECPv6.15.10//NONSGML v1.0//EN
CALSCALE:GREGORIAN
METHOD:PUBLISH
X-WR-CALNAME:Spectrum Scale User Group
X-ORIGINAL-URL:https://www.spectrumscaleug.org
X-WR-CALDESC:Events for Spectrum Scale User Group
REFRESH-INTERVAL;VALUE=DURATION:PT1H
X-Robots-Tag:noindex
X-PUBLISHED-TTL:PT1H
BEGIN:VTIMEZONE
TZID:America/New_York
BEGIN:DAYLIGHT
TZOFFSETFROM:-0500
TZOFFSETTO:-0400
TZNAME:EDT
DTSTART:20140309T070000
END:DAYLIGHT
BEGIN:STANDARD
TZOFFSETFROM:-0400
TZOFFSETTO:-0500
TZNAME:EST
DTSTART:20141102T060000
END:STANDARD
BEGIN:DAYLIGHT
TZOFFSETFROM:-0500
TZOFFSETTO:-0400
TZNAME:EDT
DTSTART:20150308T070000
END:DAYLIGHT
BEGIN:STANDARD
TZOFFSETFROM:-0400
TZOFFSETTO:-0500
TZNAME:EST
DTSTART:20151101T060000
END:STANDARD
BEGIN:DAYLIGHT
TZOFFSETFROM:-0500
TZOFFSETTO:-0400
TZNAME:EDT
DTSTART:20160313T070000
END:DAYLIGHT
BEGIN:STANDARD
TZOFFSETFROM:-0400
TZOFFSETTO:-0500
TZNAME:EST
DTSTART:20161106T060000
END:STANDARD
END:VTIMEZONE
BEGIN:VEVENT
DTSTART;VALUE=DATE:20151007
DTEND;VALUE=DATE:20151008
DTSTAMP:20260422T115540
CREATED:20171201T133332Z
LAST-MODIFIED:20171201T133332Z
UID:790-1444176000-1444262399@www.spectrumscaleug.org
SUMMARY:First USA Meet the Devs
DESCRIPTION:
URL:https://www.spectrumscaleug.org/event/first-usa-meet-the-devs/
CATEGORIES:Meet the devs
END:VEVENT
END:VCALENDAR