BEGIN:VCALENDAR
VERSION:2.0
PRODID:-//Spectrum Scale User Group - ECPv6.15.10//NONSGML v1.0//EN
CALSCALE:GREGORIAN
METHOD:PUBLISH
X-WR-CALNAME:Spectrum Scale User Group
X-ORIGINAL-URL:https://www.spectrumscaleug.org
X-WR-CALDESC:Events for Spectrum Scale User Group
REFRESH-INTERVAL;VALUE=DURATION:PT1H
X-Robots-Tag:noindex
X-PUBLISHED-TTL:PT1H
BEGIN:VTIMEZONE
TZID:Europe/London
BEGIN:DAYLIGHT
TZOFFSETFROM:+0000
TZOFFSETTO:+0100
TZNAME:BST
DTSTART:20130331T010000
END:DAYLIGHT
BEGIN:STANDARD
TZOFFSETFROM:+0100
TZOFFSETTO:+0000
TZNAME:GMT
DTSTART:20131027T010000
END:STANDARD
BEGIN:DAYLIGHT
TZOFFSETFROM:+0000
TZOFFSETTO:+0100
TZNAME:BST
DTSTART:20140330T010000
END:DAYLIGHT
BEGIN:STANDARD
TZOFFSETFROM:+0100
TZOFFSETTO:+0000
TZNAME:GMT
DTSTART:20141026T010000
END:STANDARD
BEGIN:DAYLIGHT
TZOFFSETFROM:+0000
TZOFFSETTO:+0100
TZNAME:BST
DTSTART:20150329T010000
END:DAYLIGHT
BEGIN:STANDARD
TZOFFSETFROM:+0100
TZOFFSETTO:+0000
TZNAME:GMT
DTSTART:20151025T010000
END:STANDARD
END:VTIMEZONE
BEGIN:VEVENT
DTSTART;VALUE=DATE:20141116
DTEND;VALUE=DATE:20141117
DTSTAMP:20260423T083511
CREATED:20171201T143759Z
LAST-MODIFIED:20171204T135720Z
UID:803-1416096000-1416182399@www.spectrumscaleug.org
SUMMARY:IBM User group Meeting at SC14
DESCRIPTION:GPFS @SC’14\, New Orleans\, Louisiana\n\nCLIMB\, OpenStack and Elastic Storage – Simon Thompson\, Research Computing\, University of Birmingham\nThe XSEDE Wide File System: XSEDE is a national network: eXtreme Science and Engineering Discovery nEtwork\, funded by the National Science Foundation.\nMcGill University DataSTAR: The McGill HPC Centre and the Guillimin GPFS Data Storage and Archival Environment (DataSTAR)\nNCAR GPFS Monitoring Tools
URL:https://www.spectrumscaleug.org/event/ibm-user-group-meeting-at-sc14/
END:VEVENT
END:VCALENDAR