BEGIN:VCALENDAR
VERSION:2.0
PRODID:-//Spectrum Scale User Group - ECPv6.15.10//NONSGML v1.0//EN
CALSCALE:GREGORIAN
METHOD:PUBLISH
X-ORIGINAL-URL:https://www.spectrumscaleug.org
X-WR-CALDESC:Events for Spectrum Scale User Group
REFRESH-INTERVAL;VALUE=DURATION:PT1H
X-Robots-Tag:noindex
X-PUBLISHED-TTL:PT1H
BEGIN:VTIMEZONE
TZID:Europe/London
BEGIN:DAYLIGHT
TZOFFSETFROM:+0000
TZOFFSETTO:+0100
TZNAME:BST
DTSTART:20130331T010000
END:DAYLIGHT
BEGIN:STANDARD
TZOFFSETFROM:+0100
TZOFFSETTO:+0000
TZNAME:GMT
DTSTART:20131027T010000
END:STANDARD
BEGIN:DAYLIGHT
TZOFFSETFROM:+0000
TZOFFSETTO:+0100
TZNAME:BST
DTSTART:20140330T010000
END:DAYLIGHT
BEGIN:STANDARD
TZOFFSETFROM:+0100
TZOFFSETTO:+0000
TZNAME:GMT
DTSTART:20141026T010000
END:STANDARD
BEGIN:DAYLIGHT
TZOFFSETFROM:+0000
TZOFFSETTO:+0100
TZNAME:BST
DTSTART:20150329T010000
END:DAYLIGHT
BEGIN:STANDARD
TZOFFSETFROM:+0100
TZOFFSETTO:+0000
TZNAME:GMT
DTSTART:20151025T010000
END:STANDARD
END:VTIMEZONE
BEGIN:VEVENT
DTSTART;VALUE=DATE:20140429
DTEND;VALUE=DATE:20140430
DTSTAMP:20260423T211624
CREATED:20171201T143839Z
LAST-MODIFIED:20171204T135655Z
UID:805-1398729600-1398815999@www.spectrumscaleug.org
SUMMARY:GPFS User Group main meeting 2014
DESCRIPTION:User Group 10\, IBM South Bank\n\nGPFS Performance Tuning – Sven Oehme\, IBM Scalable Storage Research\nNumascale – Robin Harker\, Numascale
URL:https://www.spectrumscaleug.org/event/gpfs-user-group-main-meeting-2014/
LOCATION:IBM South Bank\, 76/78 Upper Ground\, London\, SE1 9PZ\, United Kingdom
END:VEVENT
END:VCALENDAR